BEGIN:VCALENDAR
VERSION:2.0
PRODID:-//Christiansburg Baptist Church - ECPv6.15.20//NONSGML v1.0//EN
CALSCALE:GREGORIAN
METHOD:PUBLISH
X-WR-CALNAME:Christiansburg Baptist Church
X-ORIGINAL-URL:https://cburgbaptist.org
X-WR-CALDESC:Events for Christiansburg Baptist Church
REFRESH-INTERVAL;VALUE=DURATION:PT1H
X-Robots-Tag:noindex
X-PUBLISHED-TTL:PT1H
BEGIN:VTIMEZONE
TZID:America/New_York
BEGIN:DAYLIGHT
TZOFFSETFROM:-0500
TZOFFSETTO:-0400
TZNAME:EDT
DTSTART:20250309T070000
END:DAYLIGHT
BEGIN:STANDARD
TZOFFSETFROM:-0400
TZOFFSETTO:-0500
TZNAME:EST
DTSTART:20251102T060000
END:STANDARD
BEGIN:DAYLIGHT
TZOFFSETFROM:-0500
TZOFFSETTO:-0400
TZNAME:EDT
DTSTART:20260308T070000
END:DAYLIGHT
BEGIN:STANDARD
TZOFFSETFROM:-0400
TZOFFSETTO:-0500
TZNAME:EST
DTSTART:20261101T060000
END:STANDARD
BEGIN:DAYLIGHT
TZOFFSETFROM:-0500
TZOFFSETTO:-0400
TZNAME:EDT
DTSTART:20270314T070000
END:DAYLIGHT
BEGIN:STANDARD
TZOFFSETFROM:-0400
TZOFFSETTO:-0500
TZNAME:EST
DTSTART:20271107T060000
END:STANDARD
END:VTIMEZONE
BEGIN:VEVENT
DTSTART;TZID=America/New_York:20260802T093000
DTEND;TZID=America/New_York:20260802T103000
DTSTAMP:20260423T060624
CREATED:20260401T235005Z
LAST-MODIFIED:20260423T041531Z
UID:1010-1785663000-1785666600@cburgbaptist.org
SUMMARY:Sunday School
DESCRIPTION:
URL:https://cburgbaptist.org/event/sunday-school-18/
LOCATION:Christiansburg Baptist Church\, 1037 Frys Oldburg Rd\, Bagdad\, KY\, United States
CATEGORIES:General
END:VEVENT
BEGIN:VEVENT
DTSTART;TZID=America/New_York:20260727T170000
DTEND;TZID=America/New_York:20260727T183000
DTSTAMP:20260423T060624
CREATED:20260401T230251Z
LAST-MODIFIED:20260423T041530Z
UID:773-1785171600-1785177000@cburgbaptist.org
SUMMARY:Praise Team Planning-August
DESCRIPTION:
URL:https://cburgbaptist.org/event/praise-team-planning-august/
LOCATION:KY
CATEGORIES:General
END:VEVENT
BEGIN:VEVENT
DTSTART;TZID=America/New_York:20260726T110000
DTEND;TZID=America/New_York:20260726T120000
DTSTAMP:20260423T060624
CREATED:20260401T230251Z
LAST-MODIFIED:20260423T041530Z
UID:772-1785063600-1785067200@cburgbaptist.org
SUMMARY:Morning Worship
DESCRIPTION:
URL:https://cburgbaptist.org/event/morning-worship-14/
LOCATION:Christiansburg Baptist Church\, 1037 Frys Oldburg Rd\, Bagdad\, KY\, United States
CATEGORIES:General
END:VEVENT
BEGIN:VEVENT
DTSTART;TZID=America/New_York:20260726T093000
DTEND;TZID=America/New_York:20260726T103000
DTSTAMP:20260423T060624
CREATED:20260401T235004Z
LAST-MODIFIED:20260423T041530Z
UID:1009-1785058200-1785061800@cburgbaptist.org
SUMMARY:Sunday School
DESCRIPTION:
URL:https://cburgbaptist.org/event/sunday-school-17/
LOCATION:Christiansburg Baptist Church\, 1037 Frys Oldburg Rd\, Bagdad\, KY\, United States
CATEGORIES:General
END:VEVENT
BEGIN:VEVENT
DTSTART;TZID=America/New_York:20260719T110000
DTEND;TZID=America/New_York:20260719T120000
DTSTAMP:20260423T060624
CREATED:20260401T230251Z
LAST-MODIFIED:20260423T041530Z
UID:771-1784458800-1784462400@cburgbaptist.org
SUMMARY:Morning Worship
DESCRIPTION:
URL:https://cburgbaptist.org/event/morning-worship-13/
LOCATION:Christiansburg Baptist Church\, 1037 Frys Oldburg Rd\, Bagdad\, KY\, United States
CATEGORIES:General
END:VEVENT
BEGIN:VEVENT
DTSTART;TZID=America/New_York:20260719T093000
DTEND;TZID=America/New_York:20260719T103000
DTSTAMP:20260423T060624
CREATED:20260401T235003Z
LAST-MODIFIED:20260423T041530Z
UID:1008-1784453400-1784457000@cburgbaptist.org
SUMMARY:Sunday School
DESCRIPTION:
URL:https://cburgbaptist.org/event/sunday-school-16/
LOCATION:Christiansburg Baptist Church\, 1037 Frys Oldburg Rd\, Bagdad\, KY\, United States
CATEGORIES:General
END:VEVENT
BEGIN:VEVENT
DTSTART;TZID=America/New_York:20260712T184500
DTEND;TZID=America/New_York:20260712T194500
DTSTAMP:20260423T060624
CREATED:20260401T230251Z
LAST-MODIFIED:20260423T041530Z
UID:770-1783881900-1783885500@cburgbaptist.org
SUMMARY:3rd Quarter Business meeting
DESCRIPTION:
URL:https://cburgbaptist.org/event/3rd-quarter-business-meeting/
LOCATION:KY
CATEGORIES:General
END:VEVENT
BEGIN:VEVENT
DTSTART;TZID=America/New_York:20260712T110000
DTEND;TZID=America/New_York:20260712T120000
DTSTAMP:20260423T060624
CREATED:20260401T230251Z
LAST-MODIFIED:20260423T041530Z
UID:769-1783854000-1783857600@cburgbaptist.org
SUMMARY:Morning Worship
DESCRIPTION:
URL:https://cburgbaptist.org/event/morning-worship-12/
LOCATION:Christiansburg Baptist Church\, 1037 Frys Oldburg Rd\, Bagdad\, KY\, United States
CATEGORIES:General
END:VEVENT
BEGIN:VEVENT
DTSTART;TZID=America/New_York:20260712T093000
DTEND;TZID=America/New_York:20260712T103000
DTSTAMP:20260423T060624
CREATED:20260401T235002Z
LAST-MODIFIED:20260423T041530Z
UID:1007-1783848600-1783852200@cburgbaptist.org
SUMMARY:Sunday School
DESCRIPTION:
URL:https://cburgbaptist.org/event/sunday-school-15/
LOCATION:Christiansburg Baptist Church\, 1037 Frys Oldburg Rd\, Bagdad\, KY\, United States
CATEGORIES:General
END:VEVENT
BEGIN:VEVENT
DTSTART;TZID=America/New_York:20260705T110000
DTEND;TZID=America/New_York:20260705T120000
DTSTAMP:20260423T060624
CREATED:20260401T230251Z
LAST-MODIFIED:20260423T041530Z
UID:768-1783249200-1783252800@cburgbaptist.org
SUMMARY:Morning Worship
DESCRIPTION:
URL:https://cburgbaptist.org/event/morning-worship-11/
LOCATION:Christiansburg Baptist Church\, 1037 Frys Oldburg Rd\, Bagdad\, KY\, United States
CATEGORIES:General
END:VEVENT
BEGIN:VEVENT
DTSTART;TZID=America/New_York:20260705T093000
DTEND;TZID=America/New_York:20260705T103000
DTSTAMP:20260423T060624
CREATED:20260401T235001Z
LAST-MODIFIED:20260423T041530Z
UID:1006-1783243800-1783247400@cburgbaptist.org
SUMMARY:Sunday School
DESCRIPTION:
URL:https://cburgbaptist.org/event/sunday-school-14/
LOCATION:Christiansburg Baptist Church\, 1037 Frys Oldburg Rd\, Bagdad\, KY\, United States
CATEGORIES:General
END:VEVENT
BEGIN:VEVENT
DTSTART;TZID=America/New_York:20260629T170000
DTEND;TZID=America/New_York:20260629T183000
DTSTAMP:20260423T060624
CREATED:20260401T230251Z
LAST-MODIFIED:20260423T041529Z
UID:767-1782752400-1782757800@cburgbaptist.org
SUMMARY:Praise Team Planning-July
DESCRIPTION:
URL:https://cburgbaptist.org/event/praise-team-planning-july/
LOCATION:KY
CATEGORIES:General
END:VEVENT
BEGIN:VEVENT
DTSTART;TZID=America/New_York:20260628T110000
DTEND;TZID=America/New_York:20260628T120000
DTSTAMP:20260423T060624
CREATED:20260401T230251Z
LAST-MODIFIED:20260423T041529Z
UID:766-1782644400-1782648000@cburgbaptist.org
SUMMARY:Morning Worship
DESCRIPTION:
URL:https://cburgbaptist.org/event/morning-worship-10/
LOCATION:Christiansburg Baptist Church\, 1037 Frys Oldburg Rd\, Bagdad\, KY\, United States
CATEGORIES:General
END:VEVENT
BEGIN:VEVENT
DTSTART;TZID=America/New_York:20260628T093000
DTEND;TZID=America/New_York:20260628T103000
DTSTAMP:20260423T060624
CREATED:20260401T235000Z
LAST-MODIFIED:20260423T041529Z
UID:1005-1782639000-1782642600@cburgbaptist.org
SUMMARY:Sunday School
DESCRIPTION:
URL:https://cburgbaptist.org/event/sunday-school-13/
LOCATION:Christiansburg Baptist Church\, 1037 Frys Oldburg Rd\, Bagdad\, KY\, United States
CATEGORIES:General
END:VEVENT
BEGIN:VEVENT
DTSTART;TZID=America/New_York:20260624T173000
DTEND;TZID=America/New_York:20260624T203000
DTSTAMP:20260423T060624
CREATED:20260413T040111Z
LAST-MODIFIED:20260423T041529Z
UID:1244-1782322200-1782333000@cburgbaptist.org
SUMMARY:2026 Vacation Bible School
DESCRIPTION:Wednesday\, May 27\, June 3\, June 10\, June 17 and June 24 from 5:30 p.m. – 8:30 p.m.\nRegister here!\n\nJourney through Ireland in Emerald Crossing\, where Psalm 23 comes to life! Kids will explore God as Shepherd\, Guide\, Comforter\, Provider\, and King through David’s story\, hands-on activities\, and apologetics. \nFrom Donegal’s green pastures to Dublin’s Viking history\, each day reveals how God leads\, protects\, and provides. Join the adventure!
URL:https://cburgbaptist.org/event/2026-vacation-bible-school-5/
LOCATION:Christiansburg Baptist Church\, 1037 Frys Oldburg Rd\, Bagdad\, KY\, United States
CATEGORIES:General
END:VEVENT
BEGIN:VEVENT
DTSTART;TZID=America/New_York:20260621T110000
DTEND;TZID=America/New_York:20260621T120000
DTSTAMP:20260423T060624
CREATED:20260401T230250Z
LAST-MODIFIED:20260423T041529Z
UID:765-1782039600-1782043200@cburgbaptist.org
SUMMARY:FATHER'S DAY Morning Worship
DESCRIPTION:
URL:https://cburgbaptist.org/event/fathers-day-morning-worship/
LOCATION:Christiansburg Baptist Church\, 1037 Frys Oldburg Rd\, Bagdad\, KY\, United States
CATEGORIES:General
END:VEVENT
BEGIN:VEVENT
DTSTART;TZID=America/New_York:20260621T093000
DTEND;TZID=America/New_York:20260621T103000
DTSTAMP:20260423T060624
CREATED:20260401T235000Z
LAST-MODIFIED:20260423T041529Z
UID:1004-1782034200-1782037800@cburgbaptist.org
SUMMARY:Sunday School
DESCRIPTION:
URL:https://cburgbaptist.org/event/sunday-school-12/
LOCATION:Christiansburg Baptist Church\, 1037 Frys Oldburg Rd\, Bagdad\, KY\, United States
CATEGORIES:General
END:VEVENT
BEGIN:VEVENT
DTSTART;TZID=America/New_York:20260617T173000
DTEND;TZID=America/New_York:20260617T203000
DTSTAMP:20260423T060624
CREATED:20260413T040111Z
LAST-MODIFIED:20260423T041529Z
UID:1243-1781717400-1781728200@cburgbaptist.org
SUMMARY:2026 Vacation Bible School
DESCRIPTION:Wednesday\, May 27\, June 3\, June 10\, June 17 and June 24 from 5:30 p.m. – 8:30 p.m.\nRegister here!\n\nJourney through Ireland in Emerald Crossing\, where Psalm 23 comes to life! Kids will explore God as Shepherd\, Guide\, Comforter\, Provider\, and King through David’s story\, hands-on activities\, and apologetics. \nFrom Donegal’s green pastures to Dublin’s Viking history\, each day reveals how God leads\, protects\, and provides. Join the adventure!
URL:https://cburgbaptist.org/event/2026-vacation-bible-school-4/
LOCATION:Christiansburg Baptist Church\, 1037 Frys Oldburg Rd\, Bagdad\, KY\, United States
CATEGORIES:General
END:VEVENT
BEGIN:VEVENT
DTSTART;TZID=America/New_York:20260614T110000
DTEND;TZID=America/New_York:20260614T120000
DTSTAMP:20260423T060624
CREATED:20260401T230250Z
LAST-MODIFIED:20260423T041529Z
UID:764-1781434800-1781438400@cburgbaptist.org
SUMMARY:Morning Worship
DESCRIPTION:
URL:https://cburgbaptist.org/event/morning-worship-9/
LOCATION:Christiansburg Baptist Church\, 1037 Frys Oldburg Rd\, Bagdad\, KY\, United States
CATEGORIES:General
END:VEVENT
BEGIN:VEVENT
DTSTART;TZID=America/New_York:20260614T093000
DTEND;TZID=America/New_York:20260614T103000
DTSTAMP:20260423T060624
CREATED:20260401T234959Z
LAST-MODIFIED:20260423T041529Z
UID:1003-1781429400-1781433000@cburgbaptist.org
SUMMARY:Sunday School
DESCRIPTION:
URL:https://cburgbaptist.org/event/sunday-school-11/
LOCATION:Christiansburg Baptist Church\, 1037 Frys Oldburg Rd\, Bagdad\, KY\, United States
CATEGORIES:General
END:VEVENT
BEGIN:VEVENT
DTSTART;TZID=America/New_York:20260610T173000
DTEND;TZID=America/New_York:20260610T203000
DTSTAMP:20260423T060624
CREATED:20260413T040111Z
LAST-MODIFIED:20260423T041529Z
UID:1242-1781112600-1781123400@cburgbaptist.org
SUMMARY:2026 Vacation Bible School
DESCRIPTION:Wednesday\, May 27\, June 3\, June 10\, June 17 and June 24 from 5:30 p.m. – 8:30 p.m.\nRegister here!\n\nJourney through Ireland in Emerald Crossing\, where Psalm 23 comes to life! Kids will explore God as Shepherd\, Guide\, Comforter\, Provider\, and King through David’s story\, hands-on activities\, and apologetics. \nFrom Donegal’s green pastures to Dublin’s Viking history\, each day reveals how God leads\, protects\, and provides. Join the adventure!
URL:https://cburgbaptist.org/event/2026-vacation-bible-school-3/
LOCATION:Christiansburg Baptist Church\, 1037 Frys Oldburg Rd\, Bagdad\, KY\, United States
CATEGORIES:General
END:VEVENT
BEGIN:VEVENT
DTSTART;TZID=America/New_York:20260607T110000
DTEND;TZID=America/New_York:20260607T120000
DTSTAMP:20260423T060624
CREATED:20260401T230250Z
LAST-MODIFIED:20260423T041529Z
UID:763-1780830000-1780833600@cburgbaptist.org
SUMMARY:Morning Worship
DESCRIPTION:
URL:https://cburgbaptist.org/event/morning-worship-8/
LOCATION:Christiansburg Baptist Church\, 1037 Frys Oldburg Rd\, Bagdad\, KY\, United States
CATEGORIES:General
END:VEVENT
BEGIN:VEVENT
DTSTART;TZID=America/New_York:20260607T093000
DTEND;TZID=America/New_York:20260607T103000
DTSTAMP:20260423T060624
CREATED:20260401T234959Z
LAST-MODIFIED:20260423T041529Z
UID:1002-1780824600-1780828200@cburgbaptist.org
SUMMARY:Sunday School
DESCRIPTION:
URL:https://cburgbaptist.org/event/sunday-school-10/
LOCATION:Christiansburg Baptist Church\, 1037 Frys Oldburg Rd\, Bagdad\, KY\, United States
CATEGORIES:General
END:VEVENT
BEGIN:VEVENT
DTSTART;TZID=America/New_York:20260603T173000
DTEND;TZID=America/New_York:20260603T203000
DTSTAMP:20260423T060624
CREATED:20260413T040110Z
LAST-MODIFIED:20260423T041541Z
UID:1241-1780507800-1780518600@cburgbaptist.org
SUMMARY:2026 Vacation Bible School
DESCRIPTION:Wednesday\, May 27\, June 3\, June 10\, June 17 and June 24 from 5:30 p.m. – 8:30 p.m.\nRegister here!\n\nJourney through Ireland in Emerald Crossing\, where Psalm 23 comes to life! Kids will explore God as Shepherd\, Guide\, Comforter\, Provider\, and King through David’s story\, hands-on activities\, and apologetics. \nFrom Donegal’s green pastures to Dublin’s Viking history\, each day reveals how God leads\, protects\, and provides. Join the adventure!
URL:https://cburgbaptist.org/event/2026-vacation-bible-school-2/
LOCATION:Christiansburg Baptist Church\, 1037 Frys Oldburg Rd\, Bagdad\, KY\, United States
CATEGORIES:General
END:VEVENT
BEGIN:VEVENT
DTSTART;TZID=America/New_York:20260601T170000
DTEND;TZID=America/New_York:20260601T183000
DTSTAMP:20260423T060624
CREATED:20260401T230250Z
LAST-MODIFIED:20260423T041541Z
UID:762-1780333200-1780338600@cburgbaptist.org
SUMMARY:Praise Team Planning-June
DESCRIPTION:
URL:https://cburgbaptist.org/event/praise-team-planning-june/
LOCATION:KY
CATEGORIES:General
END:VEVENT
BEGIN:VEVENT
DTSTART;TZID=America/New_York:20260531T110000
DTEND;TZID=America/New_York:20260531T120000
DTSTAMP:20260423T060624
CREATED:20260401T230250Z
LAST-MODIFIED:20260423T041541Z
UID:761-1780225200-1780228800@cburgbaptist.org
SUMMARY:Morning Worship
DESCRIPTION:
URL:https://cburgbaptist.org/event/morning-worship-7/
LOCATION:Christiansburg Baptist Church\, 1037 Frys Oldburg Rd\, Bagdad\, KY\, United States
CATEGORIES:General
END:VEVENT
BEGIN:VEVENT
DTSTART;TZID=America/New_York:20260531T093000
DTEND;TZID=America/New_York:20260531T103000
DTSTAMP:20260423T060624
CREATED:20260401T234959Z
LAST-MODIFIED:20260423T041541Z
UID:1001-1780219800-1780223400@cburgbaptist.org
SUMMARY:Sunday School
DESCRIPTION:
URL:https://cburgbaptist.org/event/sunday-school-9/
LOCATION:Christiansburg Baptist Church\, 1037 Frys Oldburg Rd\, Bagdad\, KY\, United States
CATEGORIES:General
END:VEVENT
BEGIN:VEVENT
DTSTART;TZID=America/New_York:20260527T173000
DTEND;TZID=America/New_York:20260527T203000
DTSTAMP:20260423T060624
CREATED:20260413T040110Z
LAST-MODIFIED:20260423T041540Z
UID:1240-1779903000-1779913800@cburgbaptist.org
SUMMARY:2026 Vacation Bible School
DESCRIPTION:Wednesday\, May 27\, June 3\, June 10\, June 17 and June 24 from 5:30 p.m. – 8:30 p.m.\nRegister here!\n\nJourney through Ireland in Emerald Crossing\, where Psalm 23 comes to life! Kids will explore God as Shepherd\, Guide\, Comforter\, Provider\, and King through David’s story\, hands-on activities\, and apologetics. \nFrom Donegal’s green pastures to Dublin’s Viking history\, each day reveals how God leads\, protects\, and provides. Join the adventure!
URL:https://cburgbaptist.org/event/2026-vacation-bible-school/
LOCATION:Christiansburg Baptist Church\, 1037 Frys Oldburg Rd\, Bagdad\, KY\, United States
CATEGORIES:General
END:VEVENT
BEGIN:VEVENT
DTSTART;TZID=America/New_York:20260524T110000
DTEND;TZID=America/New_York:20260524T120000
DTSTAMP:20260423T060624
CREATED:20260401T230250Z
LAST-MODIFIED:20260423T041540Z
UID:760-1779620400-1779624000@cburgbaptist.org
SUMMARY:Morning Worship
DESCRIPTION:
URL:https://cburgbaptist.org/event/morning-worship-6/
LOCATION:Christiansburg Baptist Church\, 1037 Frys Oldburg Rd\, Bagdad\, KY\, United States
CATEGORIES:General
END:VEVENT
BEGIN:VEVENT
DTSTART;TZID=America/New_York:20260524T093000
DTEND;TZID=America/New_York:20260524T103000
DTSTAMP:20260423T060624
CREATED:20260401T234958Z
LAST-MODIFIED:20260423T041540Z
UID:1000-1779615000-1779618600@cburgbaptist.org
SUMMARY:Sunday School
DESCRIPTION:
URL:https://cburgbaptist.org/event/sunday-school-8/
LOCATION:Christiansburg Baptist Church\, 1037 Frys Oldburg Rd\, Bagdad\, KY\, United States
CATEGORIES:General
END:VEVENT
END:VCALENDAR